BEGIN:VCALENDAR
VERSION:2.0
PRODID:-//Red Hall Primary and Strive - ECPv6.15.20//NONSGML v1.0//EN
CALSCALE:GREGORIAN
METHOD:PUBLISH
X-WR-CALNAME:Red Hall Primary and Strive
X-ORIGINAL-URL:https://redhallprimary-darlington.co.uk
X-WR-CALDESC:Events for Red Hall Primary and Strive
REFRESH-INTERVAL;VALUE=DURATION:PT1H
X-Robots-Tag:noindex
X-PUBLISHED-TTL:PT1H
BEGIN:VTIMEZONE
TZID:UTC
BEGIN:STANDARD
TZOFFSETFROM:+0000
TZOFFSETTO:+0000
TZNAME:UTC
DTSTART:20230101T000000
END:STANDARD
END:VTIMEZONE
BEGIN:VEVENT
DTSTART;TZID=UTC:20240320T123000
DTEND;TZID=UTC:20240320T160000
DTSTAMP:20260422T224748
CREATED:20240320T232031Z
LAST-MODIFIED:20240320T232031Z
UID:12392-1710937800-1710950400@redhallprimary-darlington.co.uk
SUMMARY:Year 5 and 6 attending Pantomime at Wyvern Academy
DESCRIPTION:
URL:https://redhallprimary-darlington.co.uk/event/year-5-and-6-attending-pantomime-at-wyvern-academy/
END:VEVENT
END:VCALENDAR