BEGIN:VCALENDAR
VERSION:2.0
PRODID:-//Red Hall Primary and Strive - ECPv6.15.20//NONSGML v1.0//EN
CALSCALE:GREGORIAN
METHOD:PUBLISH
X-WR-CALNAME:Red Hall Primary and Strive
X-ORIGINAL-URL:https://redhallprimary-darlington.co.uk
X-WR-CALDESC:Events for Red Hall Primary and Strive
REFRESH-INTERVAL;VALUE=DURATION:PT1H
X-Robots-Tag:noindex
X-PUBLISHED-TTL:PT1H
BEGIN:VTIMEZONE
TZID:UTC
BEGIN:STANDARD
TZOFFSETFROM:+0000
TZOFFSETTO:+0000
TZNAME:UTC
DTSTART:20230101T000000
END:STANDARD
END:VTIMEZONE
BEGIN:VEVENT
DTSTART;VALUE=DATE:20240315
DTEND;VALUE=DATE:20240316
DTSTAMP:20260423T022434
CREATED:20230308T125940Z
LAST-MODIFIED:20240320T232611Z
UID:11545-1710460800-1710547199@redhallprimary-darlington.co.uk
SUMMARY:Red Nose Day 2024
DESCRIPTION: Wear something to make yourself and others laugh…. \n  \nThe theme this year is ‘dress in something that makes you laugh’… this could be simply wearing odd socks or a really mis-matched outfit. Anything you wish to wear\, to make yourself and others giggle out loud! \nWe would suggest a donation of £1 per child\, but any donations would be gratefully received and passed onto this worthy charity. 
URL:https://redhallprimary-darlington.co.uk/event/red-nose-day-2023/
END:VEVENT
END:VCALENDAR